BEGIN:VCALENDAR
VERSION:2.0
PRODID:Imitheme.com 
BEGIN:VEVENT
UID:20260421T084017148017561
DTSTAMP;TZID=UTC:20260421T084017
DTSTART;TZID=UTC:20260421T084017
DTEND;TZID=UTC:20260421T084017
SUMMARY:1/2 FINALE CHAMPIONNAT DE FRANCE CADETS
LOCATION:
DESCRIPTION:Années de naissance \: <b>2001 -&gt\;2003</b> - Couleurs de ceintures \: <strong>Verte</strong><b> -&gt\; Noire.</b> Pesée des filles \: 08h30 - 09h15. Pesée des garçons \: 11h00 - 11h45. Pour y participer\, une qualification lors des 1/4 finales est nécessaire. <strong><em>Clôture des inscriptions le 17/02/2018.</em></strong> <em>Pour plus de renseignements ou pour <strong>vous inscrire</strong>\, vous pouvez nous contacter par mail ou pendant les cours.</em>
END:VEVENT
END:VCALENDAR
